BEGIN:VCALENDAR
VERSION:2.0
PRODID:-//Riviera Beach Heights Community Gardens - ECPv5.9.1//NONSGML v1.0//EN
CALSCALE:GREGORIAN
METHOD:PUBLISH
X-WR-CALNAME:Riviera Beach Heights Community Gardens
X-ORIGINAL-URL:https://rivierabeachcommunitygardens.org
X-WR-CALDESC:Events for Riviera Beach Heights Community Gardens
BEGIN:VTIMEZONE
TZID:UTC
BEGIN:STANDARD
TZOFFSETFROM:+0000
TZOFFSETTO:+0000
TZNAME:UTC
DTSTART:20160101T000000
END:STANDARD
END:VTIMEZONE
BEGIN:VEVENT
DTSTART;TZID=UTC:20160618T090000
DTEND;TZID=UTC:20160618T130000
DTSTAMP:20260423T230308
CREATED:20160506T182504Z
LAST-MODIFIED:20160506T182504Z
UID:1461-1466240400-1466254800@rivierabeachcommunitygardens.org
SUMMARY:Small Space Container Garden
DESCRIPTION:This is a free event! \nIf you’ve ever thought that your space is too small to grow your own fruits and vegetables this workshop is for you! \nOur Master Gardener\, Kim will discuss some popular and lesser-known methods for container gardening\, fruits and vegetables to choose\, and what you need to start your own \nVolunteers will be able to see the larger scale containers we use such as pots\, raised beds\, and hydroponic gardens and how to resize them for use on a patio or windowsill \nThis is an outdoor event. We recommend drinking plenty of water the day before this event so you are hydrated. Wear light clothing to stay cool and sunblock to protect yourself from the sun.
URL:https://rivierabeachcommunitygardens.org/event/small-space-container-garden/
LOCATION:Riviera Beach Heights Community Garden\, 1010 West 10th Street\, Riviera Beach\, FL\, 33404\, United States
END:VEVENT
END:VCALENDAR