BEGIN:VCALENDAR
VERSION:2.0
PRODID:-//Riviera Beach Heights Community Gardens - ECPv5.9.1//NONSGML v1.0//EN
CALSCALE:GREGORIAN
METHOD:PUBLISH
X-WR-CALNAME:Riviera Beach Heights Community Gardens
X-ORIGINAL-URL:https://rivierabeachcommunitygardens.org
X-WR-CALDESC:Events for Riviera Beach Heights Community Gardens
BEGIN:VTIMEZONE
TZID:UTC
BEGIN:STANDARD
TZOFFSETFROM:+0000
TZOFFSETTO:+0000
TZNAME:UTC
DTSTART:20170101T000000
END:STANDARD
END:VTIMEZONE
BEGIN:VEVENT
DTSTART;TZID=UTC:20170107T073000
DTEND;TZID=UTC:20170107T120000
DTSTAMP:20260423T223636
CREATED:20170105T193856Z
LAST-MODIFIED:20170105T193856Z
UID:1579-1483774200-1483790400@rivierabeachcommunitygardens.org
SUMMARY:Dr. Martin Luther King Day of Service
DESCRIPTION:
URL:https://rivierabeachcommunitygardens.org/event/martin-luther-king-day-of-service/
LOCATION:Dr. Martin Luther King Day of Service\, 1571 West 12th Street\, Riviera Beach\, Florida
END:VEVENT
END:VCALENDAR