BEGIN:VCALENDAR
VERSION:2.0
PRODID:-//Riviera Beach Heights Community Gardens - ECPv5.9.1//NONSGML v1.0//EN
CALSCALE:GREGORIAN
METHOD:PUBLISH
X-WR-CALNAME:Riviera Beach Heights Community Gardens
X-ORIGINAL-URL:https://rivierabeachcommunitygardens.org
X-WR-CALDESC:Events for Riviera Beach Heights Community Gardens
BEGIN:VTIMEZONE
TZID:UTC
BEGIN:STANDARD
TZOFFSETFROM:+0000
TZOFFSETTO:+0000
TZNAME:UTC
DTSTART:20160101T000000
END:STANDARD
END:VTIMEZONE
BEGIN:VEVENT
DTSTART;TZID=UTC:20160609T090000
DTEND;TZID=UTC:20160609T130000
DTSTAMP:20260424T001822
CREATED:20160506T194930Z
LAST-MODIFIED:20160506T194930Z
UID:1472-1465462800-1465477200@rivierabeachcommunitygardens.org
SUMMARY:Gardener-In-Training
DESCRIPTION:This is a free series open to adult gardeners! \nThis program is taught by our Master Gardener\, Kim. It is geared toward adult gardeners and is suitable for first-time gardeners and gardeners who would like to further their understanding of edible gardening. These skills can be applied in caring for the community garden or a personal garden. \nThe series will focus on the tools and techniques for gardening in Florida’s tropical climate and the varieties of plants that are most successfully grown. Lessons will be practically applied in our learning garden. \nThis curriculum is based on the University of Florida Master-Gardener -In-Training curriculum\, though there is NO certification for this series\, it was crafted by some of the best academic and professional horticulturists in the state. \nThis is an outdoor event. We recommend drinking plenty of water the day before this event so you are hydrated. Wear light clothing to stay cool and sunblock to protect yourself from the sun.
URL:https://rivierabeachcommunitygardens.org/event/gardener-in-training-5/
LOCATION:Riviera Beach Heights Community Garden\, 1010 West 10th Street\, Riviera Beach\, FL\, 33404\, United States
END:VEVENT
END:VCALENDAR