BEGIN:VCALENDAR
VERSION:2.0
PRODID:-//Riviera Beach Heights Community Gardens - ECPv5.9.1//NONSGML v1.0//EN
CALSCALE:GREGORIAN
METHOD:PUBLISH
X-WR-CALNAME:Riviera Beach Heights Community Gardens
X-ORIGINAL-URL:https://rivierabeachcommunitygardens.org
X-WR-CALDESC:Events for Riviera Beach Heights Community Gardens
BEGIN:VTIMEZONE
TZID:UTC
BEGIN:STANDARD
TZOFFSETFROM:+0000
TZOFFSETTO:+0000
TZNAME:UTC
DTSTART:20170101T000000
END:STANDARD
END:VTIMEZONE
BEGIN:VEVENT
DTSTART;TZID=UTC:20170223T180000
DTEND;TZID=UTC:20170223T200000
DTSTAMP:20260423T195621
CREATED:20170125T205332Z
LAST-MODIFIED:20170125T205332Z
UID:1596-1487872800-1487880000@rivierabeachcommunitygardens.org
SUMMARY:Garden Paint Party
DESCRIPTION:Orange Perspective Garden Paint Party February 23\, 6-8pm \nJoin us in the beautiful Riviera Beach Community Garden for a Garden Paint Party. $30 per person\, bring your own bottle of wine or beer. This winter schedule provides perfect cool and dry conditions for these evening gatherings. This is an open air event allowing you to experience the sounds and sights of our organic\, raised-bed garden. Arrive 15-20 minutes early to uncork and stroll through the garden.\nOnce you settle in at your easel\, our instructors will provide the guidance you will need to create your own masterpiece. These events are perfect for novice painters! At the end of the evening you will take home your completed 12×12 painting. Each event will feature a new garden-inspired piece. Our February 23rd event features “Orange Perspective” a thoughtful piece looking up into the sky through the canopy of an orange tree. \n  \nPairs\, partners\, and groups are welcome. This is a fantastic date-night\, girls night out\, or office gathering event. We recommend making reservations for large groups so we can ensure you are seated together.\nWe are partnering with ANA Art Charity for this series. These events are BYOB unless otherwise noted. All proceeds will benefit the Riviera Beach Community Garden. ANA Art will also be offering kids painting classes to the Riviera Beach community.\nANA Art\, a 501(c)(3) public charity\, is an early intervention community based youth organization (CBYO) targeted at promoting social skills and communication by teaching art as a social extracurricular activity for disadvantaged and at-risk children while using it as a means to transfer attention away from selfies and online bullying in social media and enhance a child’s positive self-image.
URL:https://rivierabeachcommunitygardens.org/event/garden-paint-party-3/
LOCATION:Riviera Beach Heights Community Garden\, 1010 West 10th Street\, Riviera Beach\, FL\, 33404\, United States
END:VEVENT
END:VCALENDAR