BEGIN:VCALENDAR
VERSION:2.0
PRODID:-//Riviera Beach Heights Community Gardens - ECPv5.9.1//NONSGML v1.0//EN
CALSCALE:GREGORIAN
METHOD:PUBLISH
X-WR-CALNAME:Riviera Beach Heights Community Gardens
X-ORIGINAL-URL:https://rivierabeachcommunitygardens.org
X-WR-CALDESC:Events for Riviera Beach Heights Community Gardens
BEGIN:VTIMEZONE
TZID:UTC
BEGIN:STANDARD
TZOFFSETFROM:+0000
TZOFFSETTO:+0000
TZNAME:UTC
DTSTART:20160101T000000
END:STANDARD
END:VTIMEZONE
BEGIN:VEVENT
DTSTART;TZID=UTC:20160423T100000
DTEND;TZID=UTC:20160423T130000
DTSTAMP:20260424T003649
CREATED:20160413T162849Z
LAST-MODIFIED:20160421T145759Z
UID:1446-1461405600-1461416400@rivierabeachcommunitygardens.org
SUMMARY:Earth Day Volunteer - Opening Day of Service
DESCRIPTION:In celebration of Earth Day we will meet at the Riviera Beach Community Garden on 1010 W 10th street in the Riviera Beach area. This is the opening dedication for the garden to our land donors Coy James Herring and Merry Herring. \nThe master gardener will be available to discuss ongoing volunteer opportunities as well as children’s and family programming available this year. \nThis event is suitable for children. The tasks available for our volunteers include weeding\, seeding\, planting seedlings\, and other simple garden activities. \nFor more information please E-mail info@rivierabeachcommunitygardens.com
URL:https://rivierabeachcommunitygardens.org/event/earth-day-volunteer-opening/
LOCATION:Riviera Beach Heights Community Garden\, 1010 West 10th Street\, Riviera Beach\, FL\, 33404\, United States
END:VEVENT
END:VCALENDAR