BEGIN:VCALENDAR
VERSION:2.0
PRODID:-//Riviera Beach Heights Community Gardens - ECPv5.9.1//NONSGML v1.0//EN
CALSCALE:GREGORIAN
METHOD:PUBLISH
X-WR-CALNAME:Riviera Beach Heights Community Gardens
X-ORIGINAL-URL:https://rivierabeachcommunitygardens.org
X-WR-CALDESC:Events for Riviera Beach Heights Community Gardens
BEGIN:VTIMEZONE
TZID:UTC
BEGIN:STANDARD
TZOFFSETFROM:+0000
TZOFFSETTO:+0000
TZNAME:UTC
DTSTART:20170101T000000
END:STANDARD
END:VTIMEZONE
BEGIN:VEVENT
DTSTART;TZID=UTC:20170530T100000
DTEND;TZID=UTC:20170530T113000
DTSTAMP:20260423T185201
CREATED:20170503T154128Z
LAST-MODIFIED:20170519T204806Z
UID:1769-1496138400-1496143800@rivierabeachcommunitygardens.org
SUMMARY:Community Garden Tour
DESCRIPTION:Come out and enjoy a beautiful morning in the Community Garden. Breakfast will be served.
URL:https://rivierabeachcommunitygardens.org/event/community-garden-tour/
LOCATION:Riviera Beach Heights Community Garden\, 1010 West 10th Street\, Riviera Beach\, FL\, 33404\, United States
CATEGORIES:RBH Garden Events
ORGANIZER;CN="Annetta%20Jenkins":MAILTO:ajenkins@rbcra.com
END:VEVENT
END:VCALENDAR